Package: kebabs Version: 1.40.0 Command: /Library/Frameworks/R.framework/Resources/bin/R CMD build --keep-empty-dirs --no-resave-data kebabs StartedAt: 2025-04-01 01:56:59 -0400 (Tue, 01 Apr 2025) EndedAt: 2025-04-01 02:02:10 -0400 (Tue, 01 Apr 2025) EllapsedTime: 310.9 seconds RetCode: 0 Status: OK PackageFile: kebabs_1.40.0.tar.gz PackageFileSize: 2.259 MiB