Package: kebabs Version: 1.40.0 Command: rm -rf kebabs.buildbin-libdir && mkdir kebabs.buildbin-libdir && /Users/biocbuild/BBS/utils/build-universal.sh kebabs_1.40.0.tar.gz /Library/Frameworks/R.framework/Resources/bin/R kebabs.buildbin-libdir StartedAt: 2025-04-02 14:54:24 -0400 (Wed, 02 Apr 2025) EndedAt: 2025-04-02 14:56:04 -0400 (Wed, 02 Apr 2025) EllapsedTime: 99.5 seconds RetCode: 0 Status: OK PackageFile: kebabs_1.40.0.tgz PackageFileSize: 3.655 MiB