Package: katdetectr Version: 1.8.0 Command: /Library/Frameworks/R.framework/Resources/bin/R CMD INSTALL katdetectr StartedAt: 2025-03-31 16:19:15 -0400 (Mon, 31 Mar 2025) EndedAt: 2025-03-31 16:20:34 -0400 (Mon, 31 Mar 2025) EllapsedTime: 79.5 seconds RetCode: 0 Status: OK