Package: karyoploteR Version: 1.32.0 Command: /home/biocbuild/R/R/bin/R CMD INSTALL karyoploteR StartedAt: 2025-03-31 20:45:03 -0000 (Mon, 31 Mar 2025) EndedAt: 2025-03-31 20:46:09 -0000 (Mon, 31 Mar 2025) EllapsedTime: 66.3 seconds RetCode: 0 Status: OK