Package: karyoploteR Version: 1.32.0 Command: /home/biocbuild/R/R/bin/R CMD build --keep-empty-dirs --no-resave-data karyoploteR StartedAt: 2025-04-01 00:24:02 -0000 (Tue, 01 Apr 2025) EndedAt: 2025-04-01 00:25:54 -0000 (Tue, 01 Apr 2025) EllapsedTime: 112.0 seconds RetCode: 0 Status: OK PackageFile: karyoploteR_1.32.0.tar.gz PackageFileSize: 1.745 MiB