Package: ivygapSE Version: 1.28.0 Command: /home/biocbuild/R/R/bin/R CMD build --keep-empty-dirs --no-resave-data ivygapSE StartedAt: 2025-04-01 00:23:44 -0000 (Tue, 01 Apr 2025) EndedAt: 2025-04-01 00:26:25 -0000 (Tue, 01 Apr 2025) EllapsedTime: 161.1 seconds RetCode: 0 Status: OK PackageFile: ivygapSE_1.28.0.tar.gz PackageFileSize: 14.88 MiB