Package: iterativeBMA Version: 1.64.0 Command: /home/biocbuild/R/R/bin/R CMD check --install=check:iterativeBMA.install-out.txt --library=/home/biocbuild/R/R/site-library --no-vignettes --timings iterativeBMA_1.64.0.tar.gz StartedAt: 2025-04-01 07:43:14 -0000 (Tue, 01 Apr 2025) EndedAt: 2025-04-01 07:44:03 -0000 (Tue, 01 Apr 2025) EllapsedTime: 49.0 seconds RetCode: 0 Status: OK CheckDir: iterativeBMA.Rcheck Warnings: 0