Package: iterativeBMA Version: 1.64.0 Command: /home/biocbuild/R/R/bin/R CMD build --keep-empty-dirs --no-resave-data iterativeBMA StartedAt: 2025-04-01 00:23:26 -0000 (Tue, 01 Apr 2025) EndedAt: 2025-04-01 00:23:44 -0000 (Tue, 01 Apr 2025) EllapsedTime: 18.0 seconds RetCode: 0 Status: OK PackageFile: iterativeBMA_1.64.0.tar.gz PackageFileSize: 153.8 KiB