Package: isobar Version: 1.52.0 Command: /home/biocbuild/bbs-3.20-bioc/R/bin/R CMD check --install=check:isobar.install-out.txt --library=/home/biocbuild/bbs-3.20-bioc/R/site-library --timings isobar_1.52.0.tar.gz StartedAt: 2025-03-31 23:16:55 -0400 (Mon, 31 Mar 2025) EndedAt: 2025-03-31 23:20:52 -0400 (Mon, 31 Mar 2025) EllapsedTime: 237.2 seconds RetCode: 0 Status: WARNINGS CheckDir: isobar.Rcheck Warnings: 2