Package: isobar Version: 1.52.0 Command: /Library/Frameworks/R.framework/Resources/bin/R CMD build --keep-empty-dirs --no-resave-data isobar StartedAt: 2025-03-31 19:36:35 -0400 (Mon, 31 Mar 2025) EndedAt: 2025-03-31 19:39:26 -0400 (Mon, 31 Mar 2025) EllapsedTime: 170.5 seconds RetCode: 0 Status: OK PackageFile: isobar_1.52.0.tar.gz PackageFileSize: 2.771 MiB