Package: ipdDb Version: 1.24.0 Command: /home/biocbuild/R/R/bin/R CMD INSTALL ipdDb StartedAt: 2025-03-31 20:35:43 -0000 (Mon, 31 Mar 2025) EndedAt: 2025-03-31 20:36:05 -0000 (Mon, 31 Mar 2025) EllapsedTime: 22.3 seconds RetCode: 0 Status: OK