Package: ipdDb Version: 1.24.0 Command: /home/biocbuild/R/R/bin/R CMD check --install=check:ipdDb.install-out.txt --library=/home/biocbuild/R/R/site-library --no-vignettes --timings ipdDb_1.24.0.tar.gz StartedAt: 2025-04-01 07:36:46 -0000 (Tue, 01 Apr 2025) EndedAt: 2025-04-01 07:40:03 -0000 (Tue, 01 Apr 2025) EllapsedTime: 197.2 seconds RetCode: 0 Status: OK CheckDir: ipdDb.Rcheck Warnings: 0