Package: ipdDb Version: 1.24.0 Command: /Library/Frameworks/R.framework/Resources/bin/R CMD INSTALL ipdDb StartedAt: 2025-03-31 15:39:52 -0400 (Mon, 31 Mar 2025) EndedAt: 2025-03-31 15:40:28 -0400 (Mon, 31 Mar 2025) EllapsedTime: 36.5 seconds RetCode: 0 Status: OK