Package: ipdDb Version: 1.24.0 Command: /Library/Frameworks/R.framework/Resources/bin/R CMD build --keep-empty-dirs --no-resave-data ipdDb StartedAt: 2025-03-31 19:33:39 -0400 (Mon, 31 Mar 2025) EndedAt: 2025-03-31 19:34:20 -0400 (Mon, 31 Mar 2025) EllapsedTime: 40.8 seconds RetCode: 0 Status: OK PackageFile: ipdDb_1.24.0.tar.gz PackageFileSize: 21.05 KiB