Package: interacCircos Version: 1.16.0 Command: F:\biocbuild\bbs-3.20-bioc\R\bin\R.exe CMD check --no-multiarch --install=check:interacCircos.install-out.txt --library=F:\biocbuild\bbs-3.20-bioc\R\library --no-vignettes --timings interacCircos_1.16.0.tar.gz StartedAt: 2025-04-01 02:40:24 -0400 (Tue, 01 Apr 2025) EndedAt: 2025-04-01 02:41:14 -0400 (Tue, 01 Apr 2025) EllapsedTime: 49.7 seconds RetCode: 0 Status: OK CheckDir: interacCircos.Rcheck Warnings: 0