Package: interacCircos Version: 1.16.0 Command: rm -rf interacCircos.buildbin-libdir && mkdir interacCircos.buildbin-libdir && /Users/biocbuild/BBS/utils/build-universal.sh interacCircos_1.16.0.tar.gz /Library/Frameworks/R.framework/Resources/bin/R interacCircos.buildbin-libdir StartedAt: 2025-04-02 14:49:27 -0400 (Wed, 02 Apr 2025) EndedAt: 2025-04-02 14:49:32 -0400 (Wed, 02 Apr 2025) EllapsedTime: 5.7 seconds RetCode: 0 Status: OK PackageFile: interacCircos_1.16.0.tgz PackageFileSize: 845.4 KiB