Package: intansv Version: 1.46.0 Command: /home/biocbuild/R/R/bin/R CMD build --keep-empty-dirs --no-resave-data intansv StartedAt: 2025-04-01 00:18:45 -0000 (Tue, 01 Apr 2025) EndedAt: 2025-04-01 00:20:43 -0000 (Tue, 01 Apr 2025) EllapsedTime: 118.1 seconds RetCode: 0 Status: OK PackageFile: intansv_1.46.0.tar.gz PackageFileSize: 609.9 KiB