Package: intansv Version: 1.46.0 Command: rm -rf intansv.buildbin-libdir && mkdir intansv.buildbin-libdir && /Users/biocbuild/BBS/utils/build-universal.sh intansv_1.46.0.tar.gz /Library/Frameworks/R.framework/Resources/bin/R intansv.buildbin-libdir StartedAt: 2025-04-02 14:49:23 -0400 (Wed, 02 Apr 2025) EndedAt: 2025-04-02 14:50:31 -0400 (Wed, 02 Apr 2025) EllapsedTime: 67.6 seconds RetCode: 0 Status: OK PackageFile: intansv_1.46.0.tgz PackageFileSize: 709.6 KiB