Package: infinityFlow Version: 1.16.0 Command: chmod a+r infinityFlow -R && F:\biocbuild\bbs-3.20-bioc\R\bin\R.exe CMD build --keep-empty-dirs --no-resave-data infinityFlow StartedAt: 2025-03-31 19:41:12 -0400 (Mon, 31 Mar 2025) EndedAt: 2025-03-31 19:47:01 -0400 (Mon, 31 Mar 2025) EllapsedTime: 349.2 seconds RetCode: 0 Status: OK PackageFile: infinityFlow_1.16.0.tar.gz PackageFileSize: 1.709 MiB