Package: infinityFlow Version: 1.16.0 Command: /Library/Frameworks/R.framework/Resources/bin/R CMD INSTALL infinityFlow StartedAt: 2025-03-31 15:19:47 -0400 (Mon, 31 Mar 2025) EndedAt: 2025-03-31 15:20:48 -0400 (Mon, 31 Mar 2025) EllapsedTime: 60.8 seconds RetCode: 0 Status: OK