Package: infinityFlow Version: 1.16.0 Command: /Library/Frameworks/R.framework/Resources/bin/R CMD build --keep-empty-dirs --no-resave-data infinityFlow StartedAt: 2025-03-31 19:30:16 -0400 (Mon, 31 Mar 2025) EndedAt: 2025-03-31 19:37:31 -0400 (Mon, 31 Mar 2025) EllapsedTime: 435.2 seconds RetCode: 0 Status: OK PackageFile: infinityFlow_1.16.0.tar.gz PackageFileSize: 1.709 MiB