Package: infinityFlow Version: 1.16.0 Command: /Library/Frameworks/R.framework/Resources/bin/R CMD build --keep-empty-dirs --no-resave-data infinityFlow StartedAt: 2025-04-01 01:38:20 -0400 (Tue, 01 Apr 2025) EndedAt: 2025-04-01 01:42:48 -0400 (Tue, 01 Apr 2025) EllapsedTime: 267.7 seconds RetCode: 0 Status: OK PackageFile: infinityFlow_1.16.0.tar.gz PackageFileSize: 1.709 MiB