Package: infercnv Version: 1.22.0 Command: /Library/Frameworks/R.framework/Resources/bin/R CMD build --keep-empty-dirs --no-resave-data infercnv StartedAt: 2025-04-01 01:37:51 -0400 (Tue, 01 Apr 2025) EndedAt: 2025-04-01 01:40:12 -0400 (Tue, 01 Apr 2025) EllapsedTime: 141.1 seconds RetCode: 0 Status: OK PackageFile: infercnv_1.22.0.tar.gz PackageFileSize: 3.967 MiB