Package: impute Version: 1.80.0 Command: /home/biocbuild/R/R/bin/R CMD INSTALL impute StartedAt: 2025-03-31 20:10:52 -0000 (Mon, 31 Mar 2025) EndedAt: 2025-03-31 20:11:05 -0000 (Mon, 31 Mar 2025) EllapsedTime: 13.2 seconds RetCode: 0 Status: OK