Package: impute Version: 1.80.0 Command: F:\biocbuild\bbs-3.20-bioc\R\bin\R.exe CMD INSTALL impute StartedAt: 2025-03-31 15:20:33 -0400 (Mon, 31 Mar 2025) EndedAt: 2025-03-31 15:20:47 -0400 (Mon, 31 Mar 2025) EllapsedTime: 13.4 seconds RetCode: 0 Status: OK