Package: impute Version: 1.80.0 Command: F:\biocbuild\bbs-3.20-bioc\R\bin\R.exe CMD check --no-multiarch --install=check:impute.install-out.txt --library=F:\biocbuild\bbs-3.20-bioc\R\library --no-vignettes --timings impute_1.80.0.tar.gz StartedAt: 2025-04-01 02:37:08 -0400 (Tue, 01 Apr 2025) EndedAt: 2025-04-01 02:37:35 -0400 (Tue, 01 Apr 2025) EllapsedTime: 27.0 seconds RetCode: 0 Status: WARNINGS CheckDir: impute.Rcheck Warnings: 1