Package: impute Version: 1.80.0 Command: /Library/Frameworks/R.framework/Resources/bin/R CMD INSTALL impute StartedAt: 2025-03-31 15:03:38 -0400 (Mon, 31 Mar 2025) EndedAt: 2025-03-31 15:03:49 -0400 (Mon, 31 Mar 2025) EllapsedTime: 10.6 seconds RetCode: 0 Status: OK