Package: immunotation Version: 1.14.0 Command: F:\biocbuild\bbs-3.20-bioc\R\bin\R.exe CMD INSTALL immunotation StartedAt: 2025-03-31 15:33:00 -0400 (Mon, 31 Mar 2025) EndedAt: 2025-03-31 15:35:18 -0400 (Mon, 31 Mar 2025) EllapsedTime: 138.3 seconds RetCode: 0 Status: OK