Package: immunotation Version: 1.14.0 Command: /Library/Frameworks/R.framework/Resources/bin/R CMD build --keep-empty-dirs --no-resave-data immunotation StartedAt: 2025-03-31 19:28:49 -0400 (Mon, 31 Mar 2025) EndedAt: 2025-03-31 19:40:16 -0400 (Mon, 31 Mar 2025) EllapsedTime: 686.8 seconds RetCode: 0 Status: OK PackageFile: immunotation_1.14.0.tar.gz PackageFileSize: 2.222 MiB