Package: immunogenViewer Version: 1.0.0 Command: /home/biocbuild/R/R/bin/R CMD check --install=check:immunogenViewer.install-out.txt --library=/home/biocbuild/R/R/site-library --no-vignettes --timings immunogenViewer_1.0.0.tar.gz StartedAt: 2025-04-01 07:30:39 -0000 (Tue, 01 Apr 2025) EndedAt: 2025-04-01 07:33:32 -0000 (Tue, 01 Apr 2025) EllapsedTime: 173.1 seconds RetCode: 0 Status: OK CheckDir: immunogenViewer.Rcheck Warnings: 0