Package: immunogenViewer Version: 1.0.0 Command: chmod a+r immunogenViewer -R && F:\biocbuild\bbs-3.20-bioc\R\bin\R.exe CMD build --keep-empty-dirs --no-resave-data immunogenViewer StartedAt: 2025-03-31 19:38:34 -0400 (Mon, 31 Mar 2025) EndedAt: 2025-03-31 19:41:20 -0400 (Mon, 31 Mar 2025) EllapsedTime: 165.1 seconds RetCode: 0 Status: OK PackageFile: immunogenViewer_1.0.0.tar.gz PackageFileSize: 494.1 KiB