Package: immunogenViewer Version: 1.0.0 Command: rm -rf immunogenViewer.buildbin-libdir && mkdir immunogenViewer.buildbin-libdir && F:\biocbuild\bbs-3.20-bioc\R\bin\R.exe CMD INSTALL --build --library=immunogenViewer.buildbin-libdir immunogenViewer_1.0.0.tar.gz StartedAt: 2025-04-01 08:25:43 -0400 (Tue, 01 Apr 2025) EndedAt: 2025-04-01 08:26:45 -0400 (Tue, 01 Apr 2025) EllapsedTime: 61.9 seconds RetCode: 0 Status: OK PackageFile: immunogenViewer_1.0.0.zip PackageFileSize: 510.6 KiB