Package: immunoClust Version: 1.38.0 Command: chmod a+r immunoClust -R && F:\biocbuild\bbs-3.20-bioc\R\bin\R.exe CMD build --keep-empty-dirs --no-resave-data immunoClust StartedAt: 2025-03-31 19:38:13 -0400 (Mon, 31 Mar 2025) EndedAt: 2025-03-31 19:43:48 -0400 (Mon, 31 Mar 2025) EllapsedTime: 335.4 seconds RetCode: 0 Status: OK PackageFile: immunoClust_1.38.0.tar.gz PackageFileSize: 2.508 MiB