Package: immunoClust Version: 1.38.0 Command: /Library/Frameworks/R.framework/Resources/bin/R CMD build --keep-empty-dirs --no-resave-data immunoClust StartedAt: 2025-04-01 01:34:15 -0400 (Tue, 01 Apr 2025) EndedAt: 2025-04-01 01:37:51 -0400 (Tue, 01 Apr 2025) EllapsedTime: 216.2 seconds RetCode: 0 Status: OK PackageFile: immunoClust_1.38.0.tar.gz PackageFileSize: 2.504 MiB