Package: immunoClust Version: 1.38.0 Command: rm -rf immunoClust.buildbin-libdir && mkdir immunoClust.buildbin-libdir && /Users/biocbuild/BBS/utils/build-universal.sh immunoClust_1.38.0.tar.gz /Library/Frameworks/R.framework/Resources/bin/R immunoClust.buildbin-libdir StartedAt: 2025-04-02 14:47:42 -0400 (Wed, 02 Apr 2025) EndedAt: 2025-04-02 14:48:15 -0400 (Wed, 02 Apr 2025) EllapsedTime: 33.0 seconds RetCode: 0 Status: OK PackageFile: immunoClust_1.38.0.tgz PackageFileSize: 3.257 MiB