Package: immApex Version: 1.0.5 Command: /home/biocbuild/R/R/bin/R CMD INSTALL immApex StartedAt: 2025-03-31 20:22:46 -0000 (Mon, 31 Mar 2025) EndedAt: 2025-03-31 20:23:16 -0000 (Mon, 31 Mar 2025) EllapsedTime: 30.0 seconds RetCode: 0 Status: OK