Package: immApex Version: 1.0.5 Command: F:\biocbuild\bbs-3.20-bioc\R\bin\R.exe CMD INSTALL immApex StartedAt: 2025-03-31 16:00:22 -0400 (Mon, 31 Mar 2025) EndedAt: 2025-03-31 16:01:02 -0400 (Mon, 31 Mar 2025) EllapsedTime: 40.1 seconds RetCode: 0 Status: OK