Package: immApex Version: 1.0.5 Command: F:\biocbuild\bbs-3.20-bioc\R\bin\R.exe CMD check --no-multiarch --install=check:immApex.install-out.txt --library=F:\biocbuild\bbs-3.20-bioc\R\library --no-vignettes --timings immApex_1.0.5.tar.gz StartedAt: 2025-04-01 02:36:38 -0400 (Tue, 01 Apr 2025) EndedAt: 2025-04-01 02:44:26 -0400 (Tue, 01 Apr 2025) EllapsedTime: 468.2 seconds RetCode: 1 Status: ERROR CheckDir: immApex.Rcheck Warnings: NA