Package: immApex Version: 1.0.5 Command: chmod a+r immApex -R && F:\biocbuild\bbs-3.20-bioc\R\bin\R.exe CMD build --keep-empty-dirs --no-resave-data immApex StartedAt: 2025-03-31 19:38:10 -0400 (Mon, 31 Mar 2025) EndedAt: 2025-03-31 19:41:11 -0400 (Mon, 31 Mar 2025) EllapsedTime: 181.3 seconds RetCode: 0 Status: OK PackageFile: immApex_1.0.5.tar.gz PackageFileSize: 2.748 MiB