Package: immApex Version: 1.0.5 Command: rm -rf immApex.buildbin-libdir && mkdir immApex.buildbin-libdir && F:\biocbuild\bbs-3.20-bioc\R\bin\R.exe CMD INSTALL --build --library=immApex.buildbin-libdir immApex_1.0.5.tar.gz StartedAt: 2025-04-01 08:25:37 -0400 (Tue, 01 Apr 2025) EndedAt: 2025-04-01 08:26:21 -0400 (Tue, 01 Apr 2025) EllapsedTime: 44.5 seconds RetCode: 0 Status: OK PackageFile: immApex_1.0.5.zip PackageFileSize: 1.652 MiB