Package: immApex Version: 1.0.5 Command: /Library/Frameworks/R.framework/Resources/bin/R CMD build --keep-empty-dirs --no-resave-data immApex StartedAt: 2025-03-31 19:28:25 -0400 (Mon, 31 Mar 2025) EndedAt: 2025-03-31 19:30:16 -0400 (Mon, 31 Mar 2025) EllapsedTime: 111.4 seconds RetCode: 0 Status: OK PackageFile: immApex_1.0.5.tar.gz PackageFileSize: 2.748 MiB