Package: immApex Version: 1.0.5 Command: rm -rf immApex.buildbin-libdir && mkdir immApex.buildbin-libdir && /Users/biocbuild/BBS/utils/build-universal.sh immApex_1.0.5.tar.gz /Library/Frameworks/R.framework/Resources/bin/R immApex.buildbin-libdir StartedAt: 2025-04-01 12:04:41 -0400 (Tue, 01 Apr 2025) EndedAt: 2025-04-01 12:05:33 -0400 (Tue, 01 Apr 2025) EllapsedTime: 51.8 seconds RetCode: 0 Status: OK PackageFile: immApex_1.0.5.tgz PackageFileSize: 1.649 MiB