Package: illuminaio Version: 0.48.0 Command: /home/biocbuild/R/R/bin/R CMD INSTALL illuminaio StartedAt: 2025-03-31 20:17:34 -0000 (Mon, 31 Mar 2025) EndedAt: 2025-03-31 20:17:50 -0000 (Mon, 31 Mar 2025) EllapsedTime: 16.2 seconds RetCode: 0 Status: OK