Package: illuminaio Version: 0.48.0 Command: /home/biocbuild/R/R/bin/R CMD build --keep-empty-dirs --no-resave-data illuminaio StartedAt: 2025-04-01 00:16:18 -0000 (Tue, 01 Apr 2025) EndedAt: 2025-04-01 00:16:30 -0000 (Tue, 01 Apr 2025) EllapsedTime: 12.0 seconds RetCode: 0 Status: OK PackageFile: illuminaio_0.48.0.tar.gz PackageFileSize: 382 KiB