Package: igvShiny Version: 1.2.0 Command: F:\biocbuild\bbs-3.20-bioc\R\bin\R.exe CMD INSTALL igvShiny StartedAt: 2025-03-31 15:45:54 -0400 (Mon, 31 Mar 2025) EndedAt: 2025-03-31 15:46:42 -0400 (Mon, 31 Mar 2025) EllapsedTime: 47.5 seconds RetCode: 0 Status: OK