Package: igvShiny Version: 1.2.0 Command: /Library/Frameworks/R.framework/Resources/bin/R CMD INSTALL igvShiny StartedAt: 2025-03-31 16:37:02 -0400 (Mon, 31 Mar 2025) EndedAt: 2025-03-31 16:37:16 -0400 (Mon, 31 Mar 2025) EllapsedTime: 14.0 seconds RetCode: 0 Status: OK