Package: idpr Version: 1.16.0 Command: chmod a+r idpr -R && F:\biocbuild\bbs-3.20-bioc\R\bin\R.exe CMD build --keep-empty-dirs --no-resave-data idpr StartedAt: 2025-03-31 19:36:33 -0400 (Mon, 31 Mar 2025) EndedAt: 2025-03-31 19:38:05 -0400 (Mon, 31 Mar 2025) EllapsedTime: 91.7 seconds RetCode: 0 Status: OK PackageFile: idpr_1.16.0.tar.gz PackageFileSize: 1.026 MiB