Package: idpr Version: 1.16.0 Command: rm -rf idpr.buildbin-libdir && mkdir idpr.buildbin-libdir && F:\biocbuild\bbs-3.20-bioc\R\bin\R.exe CMD INSTALL --build --library=idpr.buildbin-libdir idpr_1.16.0.tar.gz StartedAt: 2025-04-01 08:25:06 -0400 (Tue, 01 Apr 2025) EndedAt: 2025-04-01 08:25:33 -0400 (Tue, 01 Apr 2025) EllapsedTime: 27.1 seconds RetCode: 0 Status: OK PackageFile: idpr_1.16.0.zip PackageFileSize: 1.12 MiB