Package: idpr Version: 1.16.0 Command: /Library/Frameworks/R.framework/Resources/bin/R CMD INSTALL idpr StartedAt: 2025-03-31 15:17:36 -0400 (Mon, 31 Mar 2025) EndedAt: 2025-03-31 15:17:46 -0400 (Mon, 31 Mar 2025) EllapsedTime: 10.7 seconds RetCode: 0 Status: OK