Package: idiogram Version: 1.82.0 Command: /home/biocbuild/R/R/bin/R CMD INSTALL idiogram StartedAt: 2025-03-31 20:29:19 -0000 (Mon, 31 Mar 2025) EndedAt: 2025-03-31 20:29:40 -0000 (Mon, 31 Mar 2025) EllapsedTime: 20.7 seconds RetCode: 0 Status: OK